Workbook

Sheet Summary
A1: Sl | B1: INVESTMENT COMPONENTS | C1: Date/Amount
A2: 1 | B2: New/Expansion
A3: 2 | B3: Location
A4: 3 | B4: Gross Block on FDOI
A5: 4 | B5: First Date Of Commencement Of Investment
A6: 5 | B6: Cut Off Date
A7: 6 | B7: Date Of Commencement Of Commercial Production
A8: 7 | B8: Eligible Investment Period
A9: (Include details of Phases as per policy provisions if applicable)
B11: Summary Table 1: Total Investment Breakup
A12: Sl | B12: INVESTMENT COMPONENTS | C12: BEFORE 04.11.2022 | D12: 04.11.2022-Till DCCO or 4/5/7/9 years whichever is earlier | E12: After DCCO within EIP* | F12: After EIP | G12: Total Investments | H12: Total Investments (Tab Wise) | I12: Difference (if any)
A13: 1 | B13: LAND | C13: =Land!N6 -> 0 | D13: =Land!N10 -> 0 | E13: =Land!N14 -> 0 | F13: =Land!N18 -> 0 | G13: =SUM(C13:F13) -> 0 | H13: 0 | I13: 0
A14: 2 | B14: STAMP DUTY | C14: =Land!H6 -> 0 | D14: =Land!H10 -> 0 | E14: =Land!H14 -> 0 | F14: =Land!H18 -> 0 | G14: =SUM(C14:F14) -> 0 | H14: 0 | I14: 0
A15: 3 | B15: REGISTRATION CHARGES | C15: =Land!I6 -> 0 | D15: =Land!I10 -> 0 | E15: =Land!I14 -> 0 | F15: =Land!I18 -> 0 | G15: =SUM(C15:F15) -> 0 | H15: 0 | I15: 0
A16: 4 | B16: BUILDING | C16: =Buidling!R13 -> 0 | D16: =Buidling!R25 -> 0 | E16: =Buidling!R37 -> 0 | F16: =Buidling!R48 -> 0 | G16: =SUM(C16:F16) -> 0 | H16: 0 | I16: 0
A17: 5 | B17: OTHER CONSTRUCTION COSTS | C17: =Construction!R13 -> 0 | D17: =Construction!R25 -> 0 | E17: =Construction!R37 -> 0 | F17: =Construction!R48 -> 0 | G17: =SUM(C17:F17) -> 0 | H17: 0 | I17: 0
A18: 6 | B18: PLANT & MACHINERY | C18: ='P&M'!R13 -> 0 | D18: ='P&M'!R25 -> 0 | E18: ='P&M'!R37 -> 0 | F18: ='P&M'!R48 -> 0 | G18: =SUM(C18:F18) -> 0 | H18: 0 | I18: 0
A19: 7 | B19: COST OF DEVELOPING INFRASTRUCTURE | C19: ='Cost of developing Infra'!R13 -> 0 | D19: ='Cost of developing Infra'!R25 -> 0 | E19: ='Cost of developing Infra'!R37 -> 0 | F19: ='Cost of developing Infra'!R48 -> 0 | G19: =SUM(C19:F19) -> 0 | H19: 0 | I19: 0
A20: 8 | B20: ANY OTHER COSTS INCLUDING INHOUSE R&D | C20: ='Any Other Costs'!R13 -> 0 | D20: ='Any Other Costs'!R25 -> 0 | E20: ='Any Other Costs'!R37 -> 0 | F20: ='Any Other Costs'!R48 -> 0 | G20: =SUM(C20:F20) -> 0 | H20: 0 | I20: 0
B21: GRAND TOTAL | C21: =SUM(C13:C20) -> 0 | D21: =SUM(D13:D20) -> 0 | E21: =SUM(E13:E20) -> 0 | F21: =SUM(F13:F20) -> 0 | G21: =SUM(G13:G20) -> 0 | H21: =SUM(H13:H20) -> 0 | I21: =G21-H21 -> 0
A23: *Eligible Investment Period is from cut off date to DCCO or 4/5/7/9 years whichever is earlier
A24: Note :Each investment component shall be presented in a separate tab, followed by a summary of all investment components. The total investment figures should be duly linked to the totals of each investment head.
B26: Summary Table 2: Eligible Capital Investment Verification
A27: Sl. | B27: Head | C27: Rs Cr | D27: Items as per policy provisions | E27: Remarks
A28: A | B28: Proposed Investment (as per applicant in Format 2)
A29: B | B29: Less: Unverified items
A30: C | B30: Proposed Investment (as per CA)
A31: D | B31: Less: Ineligible items (as per 12.1.6 & 12.1.7 of Policy)
A32: E | B32: Total Capital Investment (as per CA)
A33: F | B33: Less: Excess Land & Building (more than 30% capping)
A34: G | B34: Capital Investment (as per CA)
A35: H | B35: Less: Investment made before 04.11.2022
A36: I | B36: Less: Investment made after DCCO(in excess of 10% of CI)
A37: J | B37: Eligible Capital Investment (as per CA) - admissible for incentives
B39: NOTES: -
A40: 1 | B40: Link Summary Tables 1 and 2 to the Master Tabs for seamless data updates
A41: 2 | B41: Building costs should be restricted to items specified under Clause 12.1.6; no other construction-related expenses are to be included
A43: SUMMARY OF REJECTED ITEMS
A44: S No | B44: Particulars | C44: LAND | D44: STAMP DUTY | E44: REGISTRATION CHARGES | F44: BUILDING | G44: OTHER CONSTRUCTION | H44: PLANT & MACHINERY | I44: INFRASTRUCTURE FACILITIES | J44: ANY OTHER COSTS | K44: Remarks
A45: 1 | B45: Unverified Items | K45: Please provide separte sheet of rejected items
...

Sheet Land
A1: A.1 | D1: LAND
A2: S. No. | B2: CHARACTER OF LAND | C2: NATURE OF POSSESSION | D2: LAND AREA (IN ACRE) | E2: Date of Payment | F2: DATE OF REGISTRATION | G2: VALUE | H2: STAMP DUTY LEVIED | I2: REGISTRATION FEE | J2: Coversion Charges | K2: Any other Costs | L2: Total Amount | M2: Amount as claimed by applicant | N2: Amount As per CA (As per Actual Bills) | O2: ADDRESS | P2: COORDINATES | Q2: SPECIFY IF EXEMPTION CLAIMED
A3: INVESTMENT BEFORE 04.11.2022 (A)
A4: 1
A5: 2
A6: Total (A) | G6: =G4+G5 -> 0 | H6: =H4+H5 -> 0 | I6: =I4+I5 -> 0 | J6: =J4+J5 -> 0 | K6: =K4+K5 -> 0 | L6: =L4+L5 -> 0 | M6: =M4+M5 -> 0 | N6: =N4+N5 -> 0 | Q6: =Q4+Q5 -> 0
A7: INVESTMENT FROM 04.11.2022-DCCO or 4/5/7/9 years whichever is earlier (B)
A8: 1
A9: 2
A10: Total (B) | G10: =G8+G9 -> 0 | H10: =H8+H9 -> 0 | I10: =I8+I9 -> 0 | J10: =J8+J9 -> 0 | K10: =K8+K9 -> 0 | L10: =L8+L9 -> 0 | M10: =M8+M9 -> 0 | N10: =N8+N9 -> 0 | Q10: =Q8+Q9 -> 0
A11: INVESTMENT AFTER DCCO within EIP (C)
A12: 1
A13: 2
A14: Total (C) | G14: =G12+G13 -> 0 | H14: =H12+H13 -> 0 | I14: =I12+I13 -> 0 | J14: =J12+J13 -> 0 | K14: =K12+K13 -> 0 | L14: =L12+L13 -> 0 | M14: =M12+M13 -> 0 | N14: =N12+N13 -> 0 | Q14: =Q12+Q13 -> 0
A15: INVESTMENT AFTER EIP (D)
A16: 1
A17: 2
A18: Total (D) | G18: =G16+G17 -> 0 | H18: =H16+H17 -> 0 | I18: =I16+I17 -> 0 | J18: =J16+J17 -> 0 | K18: =K16+K17 -> 0 | L18: =L16+L17 -> 0 | M18: =M16+M17 -> 0 | N18: =N16+N17 -> 0 | Q18: =Q16+Q17 -> 0
A20: GRAND TOTAL(A+B+C+D) | G20: =G6+G10+G14+G18 -> 0 | H20: =H6+H10+H14+H18 -> 0 | I20: =I6+I10+I14+I18 -> 0 | J20: =J6+J10+J14+J18 -> 0 | K20: =K6+K10+K14+K18 -> 0 | L20: =L6+L10+L14+L18 -> 0 | M20: =M6+M10+M14+M18 -> 0 | N20: =N6+N10+N14+N18 -> 0 | Q20: =Q6+Q10+Q14+Q18 -> 0

Sheet Buidling
A1: B | E1: BUILDING
A2: S.no. | B2: Particular/ Component as enlisted by applicant | C2: Amount as claimed by applicant | D2: Bill No. | E2: Bill / Invoice Date | F2: Date of Entry / Posting | G2: Date of Capitalisation | H2: Vendor | I2: Vendor GSTN | J2: Base Amount | K2: IGST | L2: CGST | M2: SGST | N2: Tax Amount | O2: Other Cost (If included in invoice) | P2: Total amount | Q2: Net Value | R2: Admissible amount As per CA (As per Actual Bills received by CA) | S2: Date of payment | T2: Payment reference | U2: Hard Cost / soft cost (Y/N) | V2: Whether Acquired from Sick Unit (Y/N) | W2: Whether Related Party Transaction or not | X2: Accepted / Rejected | Y2: Remarks
A3: INVESTMENT BEFORE 04.11.2022 (A)
A4: ELIGIBLE ITEMS (A1)
A5: 1
A6: 2
A7: Total (A1) | C7: =SUM(C5:C6) -> 0 | J7: =SUM(J5:J6) -> 0 | K7: =SUM(K5:K6) -> 0 | L7: =SUM(L5:L6) -> 0 | M7: =SUM(M5:M6) -> 0 | N7: =SUM(N5:N6) -> 0 | O7: =SUM(O5:O6) -> 0 | P7: =SUM(P5:P6) -> 0 | Q7: =SUM(Q5:Q6) -> 0 | R7: =SUM(R5:R6) -> 0
A8: INVESTMENT BEFORE 04.11.2022 (A)
A9: INELIGIBLE ITEMS (A2)
A10: 1
A11: 2
A12: Total (A2) | C12: =SUM(C10:C11) -> 0 | J12: =SUM(J10:J11) -> 0 | K12: =SUM(K10:K11) -> 0 | L12: =SUM(L10:L11) -> 0 | M12: =SUM(M10:M11) -> 0 | N12: =SUM(N10:N11) -> 0 | O12: =SUM(O10:O11) -> 0 | P12: =SUM(P10:P11) -> 0 | Q12: =SUM(Q10:Q11) -> 0 | R12: =SUM(R10:R11) -> 0
A13: Total (A1+A2) | C13: =C7+C12 -> 0 | J13: =J7+J12 -> 0 | K13: =K7+K12 -> 0 | L13: =L7+L12 -> 0 | M13: =M7+M12 -> 0 | N13: =N7+N12 -> 0 | O13: =O7+O12 -> 0 | P13: =P7+P12 -> 0 | Q13: =Q7+Q12 -> 0 | R13: =R7+R12 -> 0
A15: INVESTMENT FROM 04.11.2022-DCCO or 4/5/7/9 years whichever is earlier(B)
A16: ELIGIBLE ITEMS (B1)
A17: 1
A18: 2
A19: Total(B1) | C19: =SUM(C17:C18) -> 0 | J19: =SUM(J17:J18) -> 0 | K19: =SUM(K17:K18) -> 0 | L19: =SUM(L17:L18) -> 0 | M19: =SUM(M17:M18) -> 0 | N19: =SUM(N17:N18) -> 0 | O19: =SUM(O17:O18) -> 0 | P19: =SUM(P17:P18) -> 0 | Q19: =SUM(Q17:Q18) -> 0 | R19: =SUM(R17:R18) -> 0
A20: INVESTMENT FROM 04.11.2022-DCCO or 4/5/7/9 years whichever is earlier(B)
A21: INELIGIBLE ITEMS (B2)
A22: 1
A23: 2
A24: Total(B2) | C24: =SUM(C22:C23) -> 0 | J24: =SUM(J22:J23) -> 0 | K24: =SUM(K22:K23) -> 0 | L24: =SUM(L22:L23) -> 0 | M24: =SUM(M22:M23) -> 0 | N24: =SUM(N22:N23) -> 0 | O24: =SUM(O22:O23) -> 0 | P24: =SUM(P22:P23) -> 0 | Q24: =SUM(Q22:Q23) -> 0 | R24: =SUM(R22:R23) -> 0
A25: Total (B1+B2) | C25: =C19+C24 -> 0 | J25: =J19+J24 -> 0 | K25: =K19+K24 -> 0 | L25: =L19+L24 -> 0 | M25: =M19+M24 -> 0 | N25: =N19+N24 -> 0 | O25: =O19+O24 -> 0 | P25: =P19+P24 -> 0 | Q25: =Q19+Q24 -> 0 | R25: =R19+R24 -> 0
A27: INVESTMENT AFTER DCCO within EIP(C)
A28: ELIGIBLE ITEMS (C1)
A29: 1
A30: 2
A31: Total(C1) | C31: =SUM(C29:C30) -> 0 | J31: =SUM(J29:J30) -> 0 | K31: =SUM(K29:K30) -> 0 | L31: =SUM(L29:L30) -> 0 | M31: =SUM(M29:M30) -> 0 | N31: =SUM(N29:N30) -> 0 | O31: =SUM(O29:O30) -> 0 | P31: =SUM(P29:P30) -> 0 | Q31: =SUM(Q29:Q30) -> 0 | R31: =SUM(R29:R30) -> 0
A32: INVESTMENT AFTER DCCO within EIP(C)
A33: INELIGIBLE ITEMS (C2)
A34: 1
A35: 2
A36: Total(C2) | C36: =SUM(C34:C35) -> 0 | J36: =SUM(J34:J35) -> 0 | K36: =SUM(K34:K35) -> 0 | L36: =SUM(L34:L35) -> 0 | M36: =SUM(M34:M35) -> 0 | N36: =SUM(N34:N35) -> 0 | O36: =SUM(O34:O35) -> 0 | P36: =SUM(P34:P35) -> 0 | Q36: =SUM(Q34:Q35) -> 0 | R36: =SUM(R34:R35) -> 0
A37: Total (C1+C2) | C37: =C31+C36 -> 0 | J37: =J31+J36 -> 0 | K37: =K31+K36 -> 0 | L37: =L31+L36 -> 0 | M37: =M31+M36 -> 0 | N37: =N31+N36 -> 0 | O37: =O31+O36 -> 0 | P37: =P31+P36 -> 0 | Q37: =Q31+Q36 -> 0 | R37: =R31+R36 -> 0
A38: INVESTMENT AFTER EIP(D)
A39: ELIGIBLE ITEMS (D1)
A40: 1
A41: 2
A42: Total(D1) | C42: =SUM(C40:C41) -> 0 | J42: =SUM(J40:J41) -> 0 | K42: =SUM(K40:K41) -> 0 | L42: =SUM(L40:L41) -> 0 | M42: =SUM(M40:M41) -> 0 | N42: =SUM(N40:N41) -> 0 | O42: =SUM(O40:O41) -> 0 | P42: =SUM(P40:P41) -> 0 | Q42: =SUM(Q40:Q41) -> 0 | R42: =SUM(R40:R41) -> 0
...

Sheet Construction
A1: C | E1: Other Construction
A2: S.no. | B2: Particular/ Component as enlisted by applicant | C2: Amount as claimed by applicant | D2: Bill No. | E2: Bill / Invoice Date | F2: Date of Entry / Posting | G2: Date of Capitalisation | H2: Vendor | I2: Vendor GSTN | J2: Base Amount | K2: IGST | L2: CGST | M2: SGST | N2: Tax Amount | O2: Other Cost (If included in invoice) | P2: Total amount | Q2: Net Value | R2: Admissible amount As per CA (As per Actual Bills received by CA) | S2: Date of payment | T2: Payment reference | U2: Hard Cost / soft cost (Y/N) | V2: Whether Acquired from Sick Unit (Y/N) | W2: Whether Related Party Transaction or not | X2: Accepted / Rejected | Y2: Remarks
A3: INVESTMENT BEFORE 04.11.2022 (A)
A4: ELIGIBLE ITEMS (A1)
A5: 1
A6: 2
A7: Total (A1) | C7: =SUM(C5:C6) -> 0 | J7: =SUM(J5:J6) -> 0 | K7: =SUM(K5:K6) -> 0 | L7: =SUM(L5:L6) -> 0 | M7: =SUM(M5:M6) -> 0 | N7: =SUM(N5:N6) -> 0 | O7: =SUM(O5:O6) -> 0 | P7: =SUM(P5:P6) -> 0 | Q7: =SUM(Q5:Q6) -> 0 | R7: =SUM(R5:R6) -> 0
A8: INVESTMENT BEFORE 04.11.2022 (A)
A9: INELIGIBLE ITEMS (A2)
A10: 1
A11: 2
A12: Total (A2) | C12: =SUM(C10:C11) -> 0 | J12: =SUM(J10:J11) -> 0 | K12: =SUM(K10:K11) -> 0 | L12: =SUM(L10:L11) -> 0 | M12: =SUM(M10:M11) -> 0 | N12: =SUM(N10:N11) -> 0 | O12: =SUM(O10:O11) -> 0 | P12: =SUM(P10:P11) -> 0 | Q12: =SUM(Q10:Q11) -> 0 | R12: =SUM(R10:R11) -> 0
A13: Total (A1+A2) | C13: =C7+C12 -> 0 | J13: =J7+J12 -> 0 | K13: =K7+K12 -> 0 | L13: =L7+L12 -> 0 | M13: =M7+M12 -> 0 | N13: =N7+N12 -> 0 | O13: =O7+O12 -> 0 | P13: =P7+P12 -> 0 | Q13: =Q7+Q12 -> 0 | R13: =R7+R12 -> 0
A15: INVESTMENT FROM 04.11.2022-DCCO or 4/5/7/9 years whichever is earlier(B)
A16: ELIGIBLE ITEMS (B1)
A17: 1
A18: 2
A19: Total(B1) | C19: =SUM(C17:C18) -> 0 | J19: =SUM(J17:J18) -> 0 | K19: =SUM(K17:K18) -> 0 | L19: =SUM(L17:L18) -> 0 | M19: =SUM(M17:M18) -> 0 | N19: =SUM(N17:N18) -> 0 | O19: =SUM(O17:O18) -> 0 | P19: =SUM(P17:P18) -> 0 | Q19: =SUM(Q17:Q18) -> 0 | R19: =SUM(R17:R18) -> 0
A20: INVESTMENT FROM 04.11.2022-DCCO or 4/5/7/9 years whichever is earlier(B)
A21: INELIGIBLE ITEMS (B2)
A22: 1
A23: 2
A24: Total(B2) | C24: =SUM(C22:C23) -> 0 | J24: =SUM(J22:J23) -> 0 | K24: =SUM(K22:K23) -> 0 | L24: =SUM(L22:L23) -> 0 | M24: =SUM(M22:M23) -> 0 | N24: =SUM(N22:N23) -> 0 | O24: =SUM(O22:O23) -> 0 | P24: =SUM(P22:P23) -> 0 | Q24: =SUM(Q22:Q23) -> 0 | R24: =SUM(R22:R23) -> 0
A25: Total (B1+B2) | C25: =C19+C24 -> 0 | J25: =J19+J24 -> 0 | K25: =K19+K24 -> 0 | L25: =L19+L24 -> 0 | M25: =M19+M24 -> 0 | N25: =N19+N24 -> 0 | O25: =O19+O24 -> 0 | P25: =P19+P24 -> 0 | Q25: =Q19+Q24 -> 0 | R25: =R19+R24 -> 0
A27: INVESTMENT AFTER DCCO within EIP(C)
A28: ELIGIBLE ITEMS (C1)
A29: 1
A30: 2
A31: Total(C1) | C31: =SUM(C29:C30) -> 0 | J31: =SUM(J29:J30) -> 0 | K31: =SUM(K29:K30) -> 0 | L31: =SUM(L29:L30) -> 0 | M31: =SUM(M29:M30) -> 0 | N31: =SUM(N29:N30) -> 0 | O31: =SUM(O29:O30) -> 0 | P31: =SUM(P29:P30) -> 0 | Q31: =SUM(Q29:Q30) -> 0 | R31: =SUM(R29:R30) -> 0
A32: INVESTMENT AFTER DCCO within EIP(C)
A33: INELIGIBLE ITEMS (C2)
A34: 1
A35: 2
A36: Total(C2) | C36: =SUM(C34:C35) -> 0 | J36: =SUM(J34:J35) -> 0 | K36: =SUM(K34:K35) -> 0 | L36: =SUM(L34:L35) -> 0 | M36: =SUM(M34:M35) -> 0 | N36: =SUM(N34:N35) -> 0 | O36: =SUM(O34:O35) -> 0 | P36: =SUM(P34:P35) -> 0 | Q36: =SUM(Q34:Q35) -> 0 | R36: =SUM(R34:R35) -> 0
A37: Total (C1+C2) | C37: =C31+C36 -> 0 | J37: =J31+J36 -> 0 | K37: =K31+K36 -> 0 | L37: =L31+L36 -> 0 | M37: =M31+M36 -> 0 | N37: =N31+N36 -> 0 | O37: =O31+O36 -> 0 | P37: =P31+P36 -> 0 | Q37: =Q31+Q36 -> 0 | R37: =R31+R36 -> 0
A38: INVESTMENT AFTER EIP(D)
A39: ELIGIBLE ITEMS (D1)
A40: 1
A41: 2
A42: Total(D1) | C42: =SUM(C40:C41) -> 0 | J42: =SUM(J40:J41) -> 0 | K42: =SUM(K40:K41) -> 0 | L42: =SUM(L40:L41) -> 0 | M42: =SUM(M40:M41) -> 0 | N42: =SUM(N40:N41) -> 0 | O42: =SUM(O40:O41) -> 0 | P42: =SUM(P40:P41) -> 0 | Q42: =SUM(Q40:Q41) -> 0 | R42: =SUM(R40:R41) -> 0
...

Sheet P&M
A1: D | E1: Plant & Machinery
A2: S.no. | B2: Particular/ Component as enlisted by applicant | C2: Amount as claimed by applicant | D2: Bill No. | E2: Bill / Invoice Date | F2: Date of Entry / Posting | G2: Date of Capitalisation | H2: Vendor | I2: Vendor GSTN | J2: Base Amount | K2: IGST | L2: CGST | M2: SGST | N2: Tax Amount | O2: Other Cost (If included in invoice) | P2: Total amount | Q2: Net Value | R2: Admissible amount As per CA (As per Actual Bills received by CA) | S2: Date of payment | T2: Payment reference | U2: Hard Cost / soft cost (Y/N) | V2: Whether Acquired from Sick Unit (Y/N) | W2: Whether Related Party Transaction or not | X2: Accepted / Rejected | Y2: Remarks
A3: INVESTMENT BEFORE 04.11.2022 (A)
A4: ELIGIBLE ITEMS (A1)
A5: 1
A6: 2
A7: Total (A1) | C7: =SUM(C5:C6) -> 0 | J7: =SUM(J5:J6) -> 0 | K7: =SUM(K5:K6) -> 0 | L7: =SUM(L5:L6) -> 0 | M7: =SUM(M5:M6) -> 0 | N7: =SUM(N5:N6) -> 0 | O7: =SUM(O5:O6) -> 0 | P7: =SUM(P5:P6) -> 0 | Q7: =SUM(Q5:Q6) -> 0 | R7: =SUM(R5:R6) -> 0
A8: INVESTMENT BEFORE 04.11.2022 (A)
A9: INELIGIBLE ITEMS (A2)
A10: 1
A11: 2
A12: Total (A2) | C12: =SUM(C10:C11) -> 0 | J12: =SUM(J10:J11) -> 0 | K12: =SUM(K10:K11) -> 0 | L12: =SUM(L10:L11) -> 0 | M12: =SUM(M10:M11) -> 0 | N12: =SUM(N10:N11) -> 0 | O12: =SUM(O10:O11) -> 0 | P12: =SUM(P10:P11) -> 0 | Q12: =SUM(Q10:Q11) -> 0 | R12: =SUM(R10:R11) -> 0
A13: Total (A1+A2) | C13: =C7+C12 -> 0 | J13: =J7+J12 -> 0 | K13: =K7+K12 -> 0 | L13: =L7+L12 -> 0 | M13: =M7+M12 -> 0 | N13: =N7+N12 -> 0 | O13: =O7+O12 -> 0 | P13: =P7+P12 -> 0 | Q13: =Q7+Q12 -> 0 | R13: =R7+R12 -> 0
A15: INVESTMENT FROM 04.11.2022-DCCO or 4/5/7/9 years whichever is earlier(B)
A16: ELIGIBLE ITEMS (B1)
A17: 1
A18: 2
A19: Total(B1) | C19: =SUM(C17:C18) -> 0 | J19: =SUM(J17:J18) -> 0 | K19: =SUM(K17:K18) -> 0 | L19: =SUM(L17:L18) -> 0 | M19: =SUM(M17:M18) -> 0 | N19: =SUM(N17:N18) -> 0 | O19: =SUM(O17:O18) -> 0 | P19: =SUM(P17:P18) -> 0 | Q19: =SUM(Q17:Q18) -> 0 | R19: =SUM(R17:R18) -> 0
A20: INVESTMENT FROM 04.11.2022-DCCO or 4/5/7/9 years whichever is earlier(B)
A21: INELIGIBLE ITEMS (B2)
A22: 1
A23: 2
A24: Total(B2) | C24: =SUM(C22:C23) -> 0 | J24: =SUM(J22:J23) -> 0 | K24: =SUM(K22:K23) -> 0 | L24: =SUM(L22:L23) -> 0 | M24: =SUM(M22:M23) -> 0 | N24: =SUM(N22:N23) -> 0 | O24: =SUM(O22:O23) -> 0 | P24: =SUM(P22:P23) -> 0 | Q24: =SUM(Q22:Q23) -> 0 | R24: =SUM(R22:R23) -> 0
A25: Total (B1+B2) | C25: =C19+C24 -> 0 | J25: =J19+J24 -> 0 | K25: =K19+K24 -> 0 | L25: =L19+L24 -> 0 | M25: =M19+M24 -> 0 | N25: =N19+N24 -> 0 | O25: =O19+O24 -> 0 | P25: =P19+P24 -> 0 | Q25: =Q19+Q24 -> 0 | R25: =R19+R24 -> 0
A27: INVESTMENT AFTER DCCO within EIP(C)
A28: ELIGIBLE ITEMS (C1)
A29: 1
A30: 2
A31: Total(C1) | C31: =SUM(C29:C30) -> 0 | J31: =SUM(J29:J30) -> 0 | K31: =SUM(K29:K30) -> 0 | L31: =SUM(L29:L30) -> 0 | M31: =SUM(M29:M30) -> 0 | N31: =SUM(N29:N30) -> 0 | O31: =SUM(O29:O30) -> 0 | P31: =SUM(P29:P30) -> 0 | Q31: =SUM(Q29:Q30) -> 0 | R31: =SUM(R29:R30) -> 0
A32: INVESTMENT AFTER DCCO within EIP(C)
A33: INELIGIBLE ITEMS (C2)
A34: 1
A35: 2
A36: Total(C2) | C36: =SUM(C34:C35) -> 0 | J36: =SUM(J34:J35) -> 0 | K36: =SUM(K34:K35) -> 0 | L36: =SUM(L34:L35) -> 0 | M36: =SUM(M34:M35) -> 0 | N36: =SUM(N34:N35) -> 0 | O36: =SUM(O34:O35) -> 0 | P36: =SUM(P34:P35) -> 0 | Q36: =SUM(Q34:Q35) -> 0 | R36: =SUM(R34:R35) -> 0
A37: Total (C1+C2) | C37: =C31+C36 -> 0 | J37: =J31+J36 -> 0 | K37: =K31+K36 -> 0 | L37: =L31+L36 -> 0 | M37: =M31+M36 -> 0 | N37: =N31+N36 -> 0 | O37: =O31+O36 -> 0 | P37: =P31+P36 -> 0 | Q37: =Q31+Q36 -> 0 | R37: =R31+R36 -> 0
A38: INVESTMENT AFTER EIP(D)
A39: ELIGIBLE ITEMS (D1)
A40: 1
A41: 2
A42: Total(D1) | C42: =SUM(C40:C41) -> 0 | J42: =SUM(J40:J41) -> 0 | K42: =SUM(K40:K41) -> 0 | L42: =SUM(L40:L41) -> 0 | M42: =SUM(M40:M41) -> 0 | N42: =SUM(N40:N41) -> 0 | O42: =SUM(O40:O41) -> 0 | P42: =SUM(P40:P41) -> 0 | Q42: =SUM(Q40:Q41) -> 0 | R42: =SUM(R40:R41) -> 0
...

Sheet Cost of developing Infra
A1: E | E1: Cost Of Developing Infrastructure
A2: S.no. | B2: Particular/ Component as enlisted by applicant | C2: Amount as claimed by applicant | D2: Bill No. | E2: Bill / Invoice Date | F2: Date of Entry / Posting | G2: Date of Capitalisation | H2: Vendor | I2: Vendor GSTN | J2: Base Amount | K2: IGST | L2: CGST | M2: SGST | N2: Tax Amount | O2: Other Cost (If included in invoice) | P2: Total amount | Q2: Net Value | R2: Admissible amount As per CA (As per Actual Bills received by CA) | S2: Date of payment | T2: Payment reference | U2: Hard Cost / soft cost (Y/N) | V2: Whether Acquired from Sick Unit (Y/N) | W2: Whether Related Party Transaction or not | X2: Accepted / Rejected | Y2: Remarks
A3: INVESTMENT BEFORE 04.11.2022 (A)
A4: ELIGIBLE ITEMS (A1)
A5: 1
A6: 2
A7: Total (A1) | C7: =SUM(C5:C6) -> 0 | J7: =SUM(J5:J6) -> 0 | K7: =SUM(K5:K6) -> 0 | L7: =SUM(L5:L6) -> 0 | M7: =SUM(M5:M6) -> 0 | N7: =SUM(N5:N6) -> 0 | O7: =SUM(O5:O6) -> 0 | P7: =SUM(P5:P6) -> 0 | Q7: =SUM(Q5:Q6) -> 0 | R7: =SUM(R5:R6) -> 0
A8: INVESTMENT BEFORE 04.11.2022 (A)
A9: INELIGIBLE ITEMS (A2)
A10: 1
A11: 2
A12: Total (A2) | C12: =SUM(C10:C11) -> 0 | J12: =SUM(J10:J11) -> 0 | K12: =SUM(K10:K11) -> 0 | L12: =SUM(L10:L11) -> 0 | M12: =SUM(M10:M11) -> 0 | N12: =SUM(N10:N11) -> 0 | O12: =SUM(O10:O11) -> 0 | P12: =SUM(P10:P11) -> 0 | Q12: =SUM(Q10:Q11) -> 0 | R12: =SUM(R10:R11) -> 0
A13: Total (A1+A2) | C13: =C7+C12 -> 0 | J13: =J7+J12 -> 0 | K13: =K7+K12 -> 0 | L13: =L7+L12 -> 0 | M13: =M7+M12 -> 0 | N13: =N7+N12 -> 0 | O13: =O7+O12 -> 0 | P13: =P7+P12 -> 0 | Q13: =Q7+Q12 -> 0 | R13: =R7+R12 -> 0
A15: INVESTMENT FROM 04.11.2022-DCCO or 4/5/7/9 years whichever is earlier(B)
A16: ELIGIBLE ITEMS (B1)
A17: 1
A18: 2
A19: Total(B1) | C19: =SUM(C17:C18) -> 0 | J19: =SUM(J17:J18) -> 0 | K19: =SUM(K17:K18) -> 0 | L19: =SUM(L17:L18) -> 0 | M19: =SUM(M17:M18) -> 0 | N19: =SUM(N17:N18) -> 0 | O19: =SUM(O17:O18) -> 0 | P19: =SUM(P17:P18) -> 0 | Q19: =SUM(Q17:Q18) -> 0 | R19: =SUM(R17:R18) -> 0
A20: INVESTMENT FROM 04.11.2022-DCCO or 4/5/7/9 years whichever is earlier(B)
A21: INELIGIBLE ITEMS (B2)
A22: 1
A23: 2
A24: Total(B2) | C24: =SUM(C22:C23) -> 0 | J24: =SUM(J22:J23) -> 0 | K24: =SUM(K22:K23) -> 0 | L24: =SUM(L22:L23) -> 0 | M24: =SUM(M22:M23) -> 0 | N24: =SUM(N22:N23) -> 0 | O24: =SUM(O22:O23) -> 0 | P24: =SUM(P22:P23) -> 0 | Q24: =SUM(Q22:Q23) -> 0 | R24: =SUM(R22:R23) -> 0
A25: Total (B1+B2) | C25: =C19+C24 -> 0 | J25: =J19+J24 -> 0 | K25: =K19+K24 -> 0 | L25: =L19+L24 -> 0 | M25: =M19+M24 -> 0 | N25: =N19+N24 -> 0 | O25: =O19+O24 -> 0 | P25: =P19+P24 -> 0 | Q25: =Q19+Q24 -> 0 | R25: =R19+R24 -> 0
A27: INVESTMENT AFTER DCCO within EIP(C)
A28: ELIGIBLE ITEMS (C1)
A29: 1
A30: 2
A31: Total(C1) | C31: =SUM(C29:C30) -> 0 | J31: =SUM(J29:J30) -> 0 | K31: =SUM(K29:K30) -> 0 | L31: =SUM(L29:L30) -> 0 | M31: =SUM(M29:M30) -> 0 | N31: =SUM(N29:N30) -> 0 | O31: =SUM(O29:O30) -> 0 | P31: =SUM(P29:P30) -> 0 | Q31: =SUM(Q29:Q30) -> 0 | R31: =SUM(R29:R30) -> 0
A32: INVESTMENT AFTER DCCO within EIP(C)
A33: INELIGIBLE ITEMS (C2)
A34: 1
A35: 2
A36: Total(C2) | C36: =SUM(C34:C35) -> 0 | J36: =SUM(J34:J35) -> 0 | K36: =SUM(K34:K35) -> 0 | L36: =SUM(L34:L35) -> 0 | M36: =SUM(M34:M35) -> 0 | N36: =SUM(N34:N35) -> 0 | O36: =SUM(O34:O35) -> 0 | P36: =SUM(P34:P35) -> 0 | Q36: =SUM(Q34:Q35) -> 0 | R36: =SUM(R34:R35) -> 0
A37: Total (C1+C2) | C37: =C31+C36 -> 0 | J37: =J31+J36 -> 0 | K37: =K31+K36 -> 0 | L37: =L31+L36 -> 0 | M37: =M31+M36 -> 0 | N37: =N31+N36 -> 0 | O37: =O31+O36 -> 0 | P37: =P31+P36 -> 0 | Q37: =Q31+Q36 -> 0 | R37: =R31+R36 -> 0
A38: INVESTMENT AFTER EIP(D)
A39: ELIGIBLE ITEMS (D1)
A40: 1
A41: 2
A42: Total(D1) | C42: =SUM(C40:C41) -> 0 | J42: =SUM(J40:J41) -> 0 | K42: =SUM(K40:K41) -> 0 | L42: =SUM(L40:L41) -> 0 | M42: =SUM(M40:M41) -> 0 | N42: =SUM(N40:N41) -> 0 | O42: =SUM(O40:O41) -> 0 | P42: =SUM(P40:P41) -> 0 | Q42: =SUM(Q40:Q41) -> 0 | R42: =SUM(R40:R41) -> 0
...

Sheet Any Other Costs
A1: E | E1: Cost Of Developing Infrastructure
A2: S.no. | B2: Particular/ Component as enlisted by applicant | C2: Amount as claimed by applicant | D2: Bill No. | E2: Bill / Invoice Date | F2: Date of Entry / Posting | G2: Date of Capitalisation | H2: Vendor | I2: Vendor GSTN | J2: Base Amount | K2: IGST | L2: CGST | M2: SGST | N2: Tax Amount | O2: Other Cost (If included in invoice) | P2: Total amount | Q2: Net Value | R2: Admissible amount As per CA (As per Actual Bills received by CA) | S2: Date of payment | T2: Payment reference | U2: Hard Cost / soft cost (Y/N) | V2: Whether Acquired from Sick Unit (Y/N) | W2: Whether Related Party Transaction or not | X2: Accepted / Rejected | Y2: Remarks
A3: INVESTMENT BEFORE 04.11.2022 (A)
A4: ELIGIBLE ITEMS (A1)
A5: 1
A6: 2
A7: Total (A1) | C7: =SUM(C5:C6) -> 0 | J7: =SUM(J5:J6) -> 0 | K7: =SUM(K5:K6) -> 0 | L7: =SUM(L5:L6) -> 0 | M7: =SUM(M5:M6) -> 0 | N7: =SUM(N5:N6) -> 0 | O7: =SUM(O5:O6) -> 0 | P7: =SUM(P5:P6) -> 0 | Q7: =SUM(Q5:Q6) -> 0 | R7: =SUM(R5:R6) -> 0
A8: INVESTMENT BEFORE 04.11.2022 (A)
A9: INELIGIBLE ITEMS (A2)
A10: 1
A11: 2
A12: Total (A2) | C12: =SUM(C10:C11) -> 0 | J12: =SUM(J10:J11) -> 0 | K12: =SUM(K10:K11) -> 0 | L12: =SUM(L10:L11) -> 0 | M12: =SUM(M10:M11) -> 0 | N12: =SUM(N10:N11) -> 0 | O12: =SUM(O10:O11) -> 0 | P12: =SUM(P10:P11) -> 0 | Q12: =SUM(Q10:Q11) -> 0 | R12: =SUM(R10:R11) -> 0
A13: Total (A1+A2) | C13: =C7+C12 -> 0 | J13: =J7+J12 -> 0 | K13: =K7+K12 -> 0 | L13: =L7+L12 -> 0 | M13: =M7+M12 -> 0 | N13: =N7+N12 -> 0 | O13: =O7+O12 -> 0 | P13: =P7+P12 -> 0 | Q13: =Q7+Q12 -> 0 | R13: =R7+R12 -> 0
A15: INVESTMENT FROM 04.11.2022-DCCO or 4/5/7/9 years whichever is earlier(B)
A16: ELIGIBLE ITEMS (B1)
A17: 1
A18: 2
A19: Total(B1) | C19: =SUM(C17:C18) -> 0 | J19: =SUM(J17:J18) -> 0 | K19: =SUM(K17:K18) -> 0 | L19: =SUM(L17:L18) -> 0 | M19: =SUM(M17:M18) -> 0 | N19: =SUM(N17:N18) -> 0 | O19: =SUM(O17:O18) -> 0 | P19: =SUM(P17:P18) -> 0 | Q19: =SUM(Q17:Q18) -> 0 | R19: =SUM(R17:R18) -> 0
A20: INVESTMENT FROM 04.11.2022-DCCO or 4/5/7/9 years whichever is earlier(B)
A21: INELIGIBLE ITEMS (B2)
A22: 1
A23: 2
A24: Total(B2) | C24: =SUM(C22:C23) -> 0 | J24: =SUM(J22:J23) -> 0 | K24: =SUM(K22:K23) -> 0 | L24: =SUM(L22:L23) -> 0 | M24: =SUM(M22:M23) -> 0 | N24: =SUM(N22:N23) -> 0 | O24: =SUM(O22:O23) -> 0 | P24: =SUM(P22:P23) -> 0 | Q24: =SUM(Q22:Q23) -> 0 | R24: =SUM(R22:R23) -> 0
A25: Total (B1+B2) | C25: =C19+C24 -> 0 | J25: =J19+J24 -> 0 | K25: =K19+K24 -> 0 | L25: =L19+L24 -> 0 | M25: =M19+M24 -> 0 | N25: =N19+N24 -> 0 | O25: =O19+O24 -> 0 | P25: =P19+P24 -> 0 | Q25: =Q19+Q24 -> 0 | R25: =R19+R24 -> 0
A27: INVESTMENT AFTER DCCO within EIP(C)
A28: ELIGIBLE ITEMS (C1)
A29: 1
A30: 2
A31: Total(C1) | C31: =SUM(C29:C30) -> 0 | J31: =SUM(J29:J30) -> 0 | K31: =SUM(K29:K30) -> 0 | L31: =SUM(L29:L30) -> 0 | M31: =SUM(M29:M30) -> 0 | N31: =SUM(N29:N30) -> 0 | O31: =SUM(O29:O30) -> 0 | P31: =SUM(P29:P30) -> 0 | Q31: =SUM(Q29:Q30) -> 0 | R31: =SUM(R29:R30) -> 0
A32: INVESTMENT AFTER DCCO within EIP(C)
A33: INELIGIBLE ITEMS (C2)
A34: 1
A35: 2
A36: Total(C2) | C36: =SUM(C34:C35) -> 0 | J36: =SUM(J34:J35) -> 0 | K36: =SUM(K34:K35) -> 0 | L36: =SUM(L34:L35) -> 0 | M36: =SUM(M34:M35) -> 0 | N36: =SUM(N34:N35) -> 0 | O36: =SUM(O34:O35) -> 0 | P36: =SUM(P34:P35) -> 0 | Q36: =SUM(Q34:Q35) -> 0 | R36: =SUM(R34:R35) -> 0
A37: Total (C1+C2) | C37: =C31+C36 -> 0 | J37: =J31+J36 -> 0 | K37: =K31+K36 -> 0 | L37: =L31+L36 -> 0 | M37: =M31+M36 -> 0 | N37: =N31+N36 -> 0 | O37: =O31+O36 -> 0 | P37: =P31+P36 -> 0 | Q37: =Q31+Q36 -> 0 | R37: =R31+R36 -> 0
A38: INVESTMENT AFTER EIP(D)
A39: ELIGIBLE ITEMS (D1)
A40: 1
A41: 2
A42: Total(D1) | C42: =SUM(C40:C41) -> 0 | J42: =SUM(J40:J41) -> 0 | K42: =SUM(K40:K41) -> 0 | L42: =SUM(L40:L41) -> 0 | M42: =SUM(M40:M41) -> 0 | N42: =SUM(N40:N41) -> 0 | O42: =SUM(O40:O41) -> 0 | P42: =SUM(P40:P41) -> 0 | Q42: =SUM(Q40:Q41) -> 0 | R42: =SUM(R40:R41) -> 0
...
