Workbook

Sheet PIU Process
B2: Step | C2: Particulars | E2: Timeline
B3: 1 | C3: INITIAL CHECK (Acknowledgement issuance) | E3: 30 days
C4: Scrutinization | D4: Relevancy | E4: <7 days | F4: As per checklist
D5: Completeness | E5: <7 days | F5: As per checklist
D6: Raise query- Multiple times | E6: upto 30 days
C7: Acknowledgement | D7: If found correct and relevant
D8: Rejection if Query remains unresolved
B10: 2 | C10: LOC (Issuance)- Evaluation Committee 5.2 | E10: 90 days from DOA
C11: Detailed Evaluation | D11: 1. Track SD exemption- through unique ID
D12: 2. Initiate - Examination & certification on capital Investment - (Evaluate certification and examination from CA/CE) | F12: Detailed review of documents provided
D13: Applications for LoC & disbursal received to be validated from the concerned line departments- (within one week)
D14: On the basis of above report - analysis & comments highlight
D15: Compilation of Line department comments + Report of CA/CE
D16: Submission of comments to EC for their evaluation
D17: Preparation and submission of agenda note for Evaluation committee
D18: EC - evaluate the application and provide comments & finalisation of Agenda note(5.2.1)
B19: 3 | C19: LOC (Issuance)- Recommending Authority (EC/HLEC) 5.3 | E19: 90 days
D20: Review the agenda note
D21: For Large categories (EC)- shall be chaired by IIDC GoUP and CEO Invest UP will be its Member Secretary
D22: For Mega categories & above (HLEC)- shall be chaired by CS GoUP and ACS/PS-IIDD Member Secretary
D23: Representatives of organisations may also be invited
E24: =90+90+30 -> 210

Sheet Doc_checklist
B2: S.No. | C2: Particulars | D2: Information/Documents | E2: Checkpoints
B3: Query Stage
B4: 1 | C4: Documentation | D4: Format 1 - DPR | E4: in prescribed format
D5: Format 2- CA certificate | E5: in prescribed format
D6: Format -3 Certificate | E6: in prescribed format
D7: Format -4 Self declaration | E7: in prescribed format
B8: 2 | C8: Entity details | D8: DPR duly signed by promoters and authenticated by Chartered Accountant | E8: Authentication In compliance with application submitted
D9: KYC of Promoters-PAN/Aadhaar | E9: Validity
D10: Entity details - Regsitration/ PAN/ GSTIN/ MoA/AoA/ Registred Partnership deed/ Bye laws | E10: Valid document In compliance with application submitted
D11: Location check | E11: District - Region
B12: =B8+1 -> 3 | C12: Investment Details | D12: Investment classification (large/ mega/ super mega/ ultra mega) (As per Para 2.1.10 of Rules) | E12: Correct classification
D13: Eligible capital investment (Para 2.1.11 of Rules) | E13: 80% investment done after 04.11.2022
D14: Cutoff date (Para 2.1.8 of Rules) | E14: Compliance as per policy
B15: 4 | C15: Industry | D15: Nature of business | E15: Manufacturing or not
D16: NIC code | E16: Valid code as per the manufacturing unit
D17: New/ Expansion/ Diversification | E17: DPR information check - 25% Gross block
D18: In case of Expansion (ASK) | E18: Audited Financials for last 3 years
E19: ITR for Last 3 years
E20: Land details attached

Sheet checkpoints
C2: PARTICULARS | D2: Inputs required | E2: Supporting Document / checkpoints
B3: 1 | C3: PROPOSED INVESTMENT | E3: Amt in INR
C4: District
C5: Region
C6: Option Opted
C7: Eligible Incentive as per selected option
C8: Category of Investment | D8: Large/Mega/Ultra Mega/Super Mega
B11: 2 | C11: APPLICANTS DETAILS
C12: ENTITY DETAIL
C13: Name of Entity
C14: Classification of Entity | D14: Proprietorship/ Partnership/ Company/LLP/Trust/Society/Coopertive
C15: Contact Number | E15: OTP based verification
C16: Email | E16: OTP based verification
C17: PAN No | E17: Copy of PAN & Validatation from Income Tax site
C18: GSTIN | E18: Copy of GSTIN Certificate & Validatation from GSTN portal
C19: CIN | E19: Copy of Incorporation Certificate & Validatation from MCA Portal
C21: PROMOTER'S DETAIL
C22: Name of Personals | E22: Additional Rows to be insert for each if required
C23: PAN | E23: Copy of PAN & Validatation from Income Tax site
C24: DIN/DPIN | E24: Validatation from MCA Portal
C25: Aadhaar No | E25: Copy of Aadhaar & Validation from UIDAI portal
C26: Contact No | E26: Optional -OTP based verification
C27: Email ID | E27: Optional -OTP based verification
C29: Designated Authorised/Contact Person
C30: Same as above | D30: Yes/No | E30: Strike the same & copy of Board resolution
C31: Specify the details if other than stated above
C32: Name | E32: Copy of Board resolution
C33: Designation
C34: Aadhaar No | E34: Copy of Aadhaar & Validation from UIDAI portal
C35: Contact No | E35: Optional - OTP based verification
C36: Email ID | E36: Optional - OTP based verification
B39: 3 | C39: DETAILS OF PROJECT
C40: Brief Introduction
C41: Effective date
C42: Effective period
C43: Nature of operation | D43: Manufacturing/ Contract Manufacturing/ Jobwork
C44: Unit Setup | D44: New/ Expansion/ Diversification
C45: Proposed amount of Investment
C46: Date of commencement of Investment
C47: Investment incurred till effective date
...

Sheet incentive calculator
B3: Proposed Investment (cr) | I3: 5000
B4: Category | I4: =IF(I3>=50, IF(I3<200, "Large", IF(I3<500, "Mega", IF(I3<3000, "Super Mega", "Ultra Mega"))), "") -> Ultra Mega
B5: District Name | I5: Jhansi
B6: Proposed Location | I6: =VLOOKUP($I$5,Sheet1!$B$2:$C$76,2,TRUE) -> Bundelkhand
E9: Options
B11: Option 1 - CAPITAL | E11: No | H11: Option-2-SGST | J11: Yes
B12: Eligible incetives | E12: Proposed Amount | H12: SGST | I12: Annual Ceiling | J12: =IF(AND(OR(I6="Pachimanchal", I6="Madhyanchal"), NOT(OR(I5="Gautam Budhnagar", I5="Gaziabad")), I3>=3000), ECI!D12*Sheet3!K10, IF(AND(OR(I6="Pachimanchal", I6="Madhyanchal"), NOT(OR(I5="Gautam Budhnagar", I5="Gaziabad")), I3>=500), ECI!D12*Sheet3!J10, IF(AND(OR(I6="Pachimanchal", I6="Madhyanchal"), NOT(OR(I5="Gautam Budhnagar", I5="Gaziabad")), I3>=200), ECI!D12*Sheet3!I10, IF(AND(OR(I6="Pachimanchal", I6="Madhyanchal"), NOT(OR(I5="Gautam Budhnagar", I5="Gaziabad")), I3>=50), ECI!D12*Sheet3!H10, IF(AND(OR(I6="Poorvanchal", I6="Bundelkhand"), I3>=3000), ECI!D12*Sheet3!K12, IF(AND(OR(I6="Poorvanchal", I6="Bundelkhand"), I3>=500), ECI!D12*Sheet3!J12, IF(AND(OR(I6="Poorvanchal", I6="Bundelkhand"), I3>=200), ECI!D12*Sheet3!I12, IF(AND(OR(I6="Poorvanchal", I6="Bundelkhand"), I3>=50), ECI!D12*Sheet3!H12, IF(AND(OR(I5="Gautam Budhnagar", I5="Gaziabad"), I3>=3000), ECI!D12*Sheet3!K8, IF(AND(OR(I5="Gautam Budhnagar", I5="Gaziabad"), I3>=500), ECI!D12*Sheet3!J8, IF(AND(OR(I5="Gautam Budhnagar", I5="Gaziabad"), I3>=200), ECI!D12*Sheet3!I8, IF(AND(OR(I5="Gautam Budhnagar", I5="Gaziabad"), I3>=50), ECI!D12*Sheet3!I8, 0)))))))))))) -> 14084.89
B13: Incentive-1-Capital | E13: =IF(OR(I5="Gautam Budhnagar", I5="Ghaziabad"), 'Option 1'!I6, IF(OR(I6="Madhyanchal", I6="Paschimanchal"), 'Option 1'!I7, IF(OR(I6="Bundelkhand", I6="Poorvanchal"), 'Option 1'!I8, ""))) -> 22239.3 | I13: Overall Ceiling | J13: =IF(AND(OR(I6="Pachimanchal", I6="Madhyanchal"), NOT(OR(I5="Gautam Budhnagar", I5="Gaziabad")), I3>=3000), ECI!D12*Sheet3!K11, IF(AND(OR(I6="Pachimanchal", I6="Madhyanchal"), NOT(OR(I5="Gautam Budhnagar", I5="Gaziabad")), I3>=500), ECI!D12*Sheet3!J11, IF(AND(OR(I6="Pachimanchal", I6="Madhyanchal"), NOT(OR(I5="Gautam Budhnagar", I5="Gaziabad")), I3>=200), ECI!D12*Sheet3!I11, IF(AND(OR(I6="Pachimanchal", I6="Madhyanchal"), NOT(OR(I5="Gautam Budhnagar", I5="Gaziabad")), I3>=50), ECI!D12*Sheet3!H11, IF(AND(OR(I6="Poorvanchal", I6="Bundelkhand"), I3>=3000), ECI!D12*Sheet3!K13, IF(AND(OR(I6="Poorvanchal", I6="Bundelkhand"), I3>=500), ECI!D12*Sheet3!J13, IF(AND(OR(I6="Poorvanchal", I6="Bundelkhand"), I3>=200), ECI!D12*Sheet3!I13, IF(AND(OR(I6="Poorvanchal", I6="Bundelkhand"), I3>=50), ECI!D12*Sheet3!H13, IF(AND(OR(I5="Gautam Budhnagar", I5="Gaziabad"), I3>=3000), ECI!D12*Sheet3!K9, IF(AND(OR(I5="Gautam Budhnagar", I5="Gaziabad"), I3>=500), ECI!D12*Sheet3!J9, IF(AND(OR(I5="Gautam Budhnagar", I5="Gaziabad"), I3>=200), ECI!D12*Sheet3!I9, IF(AND(OR(I5="Gautam Budhnagar", I5="Gaziabad"), I3>=50), ECI!D12*Sheet3!H9, 0)))))))))))) -> 222393
B14: Boster-1( Employment) | E14: =IF(I4="Mega",'Option 1'!E13, IF(I4="Super Mega",'Option 1'!E14, IF(I4="Ultra Mega",'Option 1'!E15, ""))) -> 2965.24
B15: Boster-2 (Export) | E15: =IF(OR(I5="Gautam Budhnagar", I5="Ghaziabad"), 'Option 1'!K6, IF(OR(I6="Madhyanchal", I6="Paschimanchal"), 'Option 1'!K7, IF(OR(I6="Bundelkhand", I6="Poorvanchal"), 'Option 1'!K8, ""))) -> 2965.24
B16: Boster-3 ( Ecosystem) | E16: =IF(OR(I5="Gautam Budhnagar", I5="Ghaziabad"), 'Option 1'!L6, IF(OR(I6="Madhyanchal", I6="Paschimanchal"), 'Option 1'!L7, IF(OR(I6="Bundelkhand", I6="Poorvanchal"), 'Option 1'!L8, ""))) -> 2223.93
B17: Total Incentive | E17: =SUM(E13:E16) -> 30393.71

Sheet Option 1
A3: A. | B3: Capital Subsidy
B4: Region | E4: Base Capital Subsidy | H4: GCM | I4: Base capital | J4: Additonal Subsidy | M4: TOTAL INCV
E5: % Incv | F5: Incv Amt | J5: Emplyoment | K5: Export | L5: Ecosystem
B6: Gautam Budhnagar & Gaziabad | E6: =IF('incentive calculator'!I3>=3000,22%,IF('incentive calculator'!I3>=500,20%,IF('incentive calculator'!I3>=200,18%,IF('incentive calculator'!I3>=50,10%,"")))) -> 0.22 | F6: =E6*ECI!D12 -> 16308.82 | H6: 1 | I6: =F6*H6 -> 16308.82 | J6: =E13 -> 2223.93 | K6: =E25*ECI!D12 -> 2965.24 | L6: =IF('incentive calculator'!I3>200,'Option 1'!E32*ECI!D12,0) -> 2223.93 | M6: =I6+J6+K6+L6 -> 23721.92
B7: Madhyanchal & Paschimanchal | E7: =IF('incentive calculator'!I3>=3000,25%,IF('incentive calculator'!I3>=500,22%,IF('incentive calculator'!I3>=200,20%,IF('incentive calculator'!I3>=50,12%,"")))) -> 0.25 | F7: =E7*ECI!D12 -> 18532.75 | H7: 1 | I7: =F7*H7 -> 18532.75 | J7: =E14 -> 1482.62 | K7: =E25*ECI!D12 -> 2965.24 | L7: =IF('incentive calculator'!I3>200,'Option 1'!E32*ECI!D12,0) -> 2223.93 | M7: =F7*H7+J7+K7+L7 -> 25204.54
B8: Bundelkhand & Poorvanchal | E8: =IF('incentive calculator'!I3>=3000,30%,IF('incentive calculator'!I4>=500,25%,IF('incentive calculator'!I3>=200,22%,IF('incentive calculator'!I3>=50,15%,"")))) -> 0.3 | F8: =E8*ECI!D12 -> 22239.3 | H8: 1 | I8: =F8*H8 -> 22239.3 | J8: =E15 -> 2965.24 | K8: =E25*ECI!D12 -> 2965.24 | L8: =IF('incentive calculator'!I3>200,'Option 1'!E32*ECI!D12,0) -> 2223.93 | M8: =F8*H8+J8+K8+L8 -> 30393.71
A11: B. | B11: Employment Booster Calculation
B12: Project Category | C12: Actual Employment | D12: Incentive rate | E12: Incentive
B13: Mega | C13: 650 | D13: =IF(C13>=1200, 4%, IF(C13>=600, 3%, IF(C13>=300, 2%,""))) -> 0.03 | E13: =D13*ECI!D12 -> 2223.93
B14: Super Mega | C14: 600 | D14: =IF(C14>=1800, 4%, IF(C14>=1200, 3%, IF(C14>=600, 2%,""))) -> 0.02 | E14: =D14*ECI!D12 -> 1482.62
B15: Ultra Mega | C15: 4500 | D15: =IF(C15>=4500, 4%, IF(C15>=3000, 3%, IF(C15>=1500, 2%,""))) -> 0.04 | E15: =D15*ECI!D12 -> 2965.24
A21: C. | B21: Export Booster
B22: Total Production | E22: 10000
B23: Export | E23: 8000
B24: Export % | E24: =E23/E22*100 -> 80
B25: % incv | E25: =IF(E24>=75,0.04,IF(E24>=50,0.03,IF(E24>=25,0.02,0))) -> 0.04
A28: D. | B28: Ecosystem booster
B29: Total Input Procurement | E29: 50000
B30: Input Procurement from UP | E30: 30000
B31: % | E31: =E30/E29*100 -> 60
B32: Incentive | E32: =IF(AND(E31>40,E31<60), "2%", IF(AND(E31>=60,E31<75), "3%", IF(AND(E31>=75), "4%", ""))) -> 3%

Sheet ECI
A1: Eligible Capital Investment (Input required only in Green cells)
D3: 0
A5: A. | B5: Investment Details (ECI)
B6: Sl No | C6: Item | D6: Cost of Project as per Appraisal
D7: Actual | E7: Eligible
B8: 1 | C8: Land | D8: 5460 | E8: =D12*0.3 -> 22239.3
B9: =+B8+1 -> 2 | C9: Building | D9: 16788
B10: =+B9+1 -> 3 | C10: Plant and Machinery | D10: 51883
B11: =+B10+1 -> 4 | C11: Other Cost
C12: Total | D12: =SUM(D8:D11) -> 74131

Sheet Sheet3
B1: SDE | C1: Option 1- CAPITAL SUBSIDY | G1: Option -2 NET SGST REIMBURSEMENT
A2: Categorisation | C2: Large | D2: Mega | E2: Super Mega | F2: Ultra-Mega | G2: Particulars | H2: Large | I2: Mega | J2: Super Mega | K2: Ultra-Mega
A3: District/ Region | C3: (₹50 Cr & above | D3: (₹200Cr & above | E3: (₹500 Cr & | F3: (₹3000 Cr & above) | H3: (₹50 Cr & above | I3: (₹200Cr & above | J3: (₹500 Cr & | K3: (₹3000 Cr & above)
C4: < ₹200 Cr) | D4: < ₹ 500 Cr) | E4: above | H4: < ₹200 Cr) | I4: < ₹ 500 Cr) | J4: above
E5: < ₹3000 Cr) | J5: < ₹3000 Cr)
A6: Incentive disbursal duration/ Period of reimbursement | C6: 10 annual instalments | D6: 12 annual | E6: 15 annual instalments | F6: 20 annual instalments | H6: 6 | I6: 12 | J6: 14 | K6: 16
A7: (in years) | D7: instalments
A8: Gautam Buddh Nagar & Ghaziabad | B8: 0.5 | C8: 10% of ECI | D8: 18% of ECI | E8: 20% of ECI | F8: 22% of ECI | G8: Annual Ceiling as % of ECI | H8: 0.16 | I8: 0.07 | J8: 0.06 | K8: 0.05
G9: Overall Ceiling as % of ECI | H9: 0.8 | I9: 0.8 | J9: 0.8 | K9: 0.8
A10: Madhyanchal & Paschimanchal (except Gautam Buddh Nagar & Ghaziabad districts) | B10: 0.75 | C10: 12% of ECI | D10: 20% of ECI | E10: 22% of ECI | F10: 25% of ECI | G10: Annual Ceiling as % of ECI | H10: 0.18 | I10: 0.17 | J10: 0.14 | K10: 0.13
G11: Overall Ceiling as % of ECI | H11: 0.9 | I11: 2 | J11: 2 | K11: 2
A12: Bundelkhand & Poorvanchal | B12: 1 | C12: 15% of ECI | D12: 22% of ECI | E12: 25% of ECI | F12: 30% of ECI | G12: Annual Ceiling as % of ECI | H12: 0.2 | I12: 0.25 | J12: 0.21 | K12: 0.19
G13: Overall Ceiling as % of ECI | H13: 1 | I13: 3 | J13: 3 | K13: 3
A14: Annual Ceiling | C14: ₹ 5 Cr | D14: ₹ 10 Cr | E14: ₹ 50 Cr | F14: ₹ 150 Cr
A15: Annual Ceiling with boosters | C15: Not applicable | D15: ₹ 15 Cr | E15: ₹ 75 Cr | F15: ₹ 210 Cr | G15: Annual % of | H15: 1 | I15: 1 | J15: 1 | K15: 1
G16: Net SGST Reimbursement

Sheet Sheet1
B1: District | C1: Region
A2: =+A1+1 -> 1 | B2: Agra | C2: Paschimanchal
A3: =+A2+1 -> 2 | B3: Aligarh | C3: Paschimanchal
A4: =+A3+1 -> 3 | B4: Ambedkar Nagar | C4: Poorvanchal
A5: =+A4+1 -> 4 | B5: Amethi | C5: Poorvanchal
A6: =+A5+1 -> 5 | B6: Amroha | C6: Paschimanchal
A7: =+A6+1 -> 6 | B7: Auraiya | C7: Madhyanchal
A8: =+A7+1 -> 7 | B8: Ayodhya | C8: Poorvanchal
A9: =+A8+1 -> 8 | B9: Azamgarh | C9: Poorvanchal
A10: =+A9+1 -> 9 | B10: Baghpat | C10: Paschimanchal
A11: =+A10+1 -> 10 | B11: Bahraich | C11: Poorvanchal
A12: =+A11+1 -> 11 | B12: Ballia | C12: Poorvanchal
A13: =+A12+1 -> 12 | B13: Balrampur | C13: Poorvanchal
A14: =+A13+1 -> 13 | B14: Banda | C14: Bundelkhand | H14: Yes
A15: =+A14+1 -> 14 | B15: Bara Banki | C15: Poorvanchal | H15: No
A16: =+A15+1 -> 15 | B16: Bareilly | C16: Paschimanchal
A17: =+A16+1 -> 16 | B17: Basti | C17: Poorvanchal
A18: =+A17+1 -> 17 | B18: Bhadohi | C18: Poorvanchal
A19: =+A18+1 -> 18 | B19: Bijnor | C19: Paschimanchal
A20: =+A19+1 -> 19 | B20: Budaun | C20: Paschimanchal
A21: =+A20+1 -> 20 | B21: Bulandshahr | C21: Paschimanchal
A22: =+A21+1 -> 21 | B22: Chandauli | C22: Poorvanchal
A23: =+A22+1 -> 22 | B23: Chitrakoot | C23: Paschimanchal
A24: =+A23+1 -> 23 | B24: Deoria | C24: Madhyanchal
A25: =+A24+1 -> 24 | B25: Etah | C25: Madhyanchal
A26: =+A25+1 -> 25 | B26: Etawah | C26: Madhyanchal
A27: =+A26+1 -> 26 | B27: Farrukhabad | C27: Madhyanchal
... A66: =+A65+1 -> 65 | B66: Sambhal | C66: Paschimanchal
A67: =+A66+1 -> 66 | B67: Sant Kabir Nagar | C67: Poorvanchal | H67: Yes | I67: No
A68: =+A67+1 -> 67 | B68: Shahjahanpur | C68: Madhyanchal
A69: =+A68+1 -> 68 | B69: Shamli | C69: Madhyanchal
A70: =+A69+1 -> 69 | B70: Shrawasti | C70: Poorvanchal
A71: =+A70+1 -> 70 | B71: Siddharthnagar | C71: Poorvanchal
A72: =+A71+1 -> 71 | B72: Sitapur | C72: Madhyanchal
A73: =+A72+1 -> 72 | B73: Sonbhadra | C73: Poorvanchal
A74: =+A73+1 -> 73 | B74: Sultanpur | C74: Poorvanchal
A75: =+A74+1 -> 74 | B75: Unnao | C75: Madhyanchal
A76: =+A75+1 -> 75 | B76: Varanasi | C76: Poorvanchal

Sheet Sheet2
